BEGIN:VCALENDAR
VERSION:2.0
PRODID:-//wp-events-plugin.com//7.2.3.1//EN
TZID:Europe/Berlin
X-WR-TIMEZONE:Europe/Berlin
BEGIN:VEVENT
UID:5415@zukunftssalon-fuerth.de
DTSTART;TZID=Europe/Berlin:20250730T190000
DTEND;TZID=Europe/Berlin:20250730T210000
DTSTAMP:20250730T120104Z
URL:https://www.zukunftssalon-fuerth.de/veranstaltungen/6f626053-9542-474a
 -996a-4ee78965be1e/
SUMMARY:Treffen Aufsichtsrat EWERG Bürger:innen-Energie
DESCRIPTION:Treffen Aufsichtsrat EWERG mit RG Fürthoberer Raum\, 6 Persone
 nnicht öffentlich
END:VEVENT
BEGIN:VTIMEZONE
TZID:Europe/Berlin
X-LIC-LOCATION:Europe/Berlin
BEGIN:DAYLIGHT
DTSTART:20250330T030000
TZOFFSETFROM:+0100
TZOFFSETTO:+0200
TZNAME:CEST
END:DAYLIGHT
END:VTIMEZONE
END:VCALENDAR